BEGIN:VCALENDAR
VERSION:2.0
PRODID:-//Christ Cathedral - ECPv6.15.20//NONSGML v1.0//EN
CALSCALE:GREGORIAN
METHOD:PUBLISH
X-WR-CALNAME:Christ Cathedral
X-ORIGINAL-URL:https://www.christcathedralcalifornia.org
X-WR-CALDESC:Events for Christ Cathedral
REFRESH-INTERVAL;VALUE=DURATION:PT1H
X-Robots-Tag:noindex
X-PUBLISHED-TTL:PT1H
BEGIN:VTIMEZONE
TZID:America/Los_Angeles
BEGIN:DAYLIGHT
TZOFFSETFROM:-0800
TZOFFSETTO:-0700
TZNAME:PDT
DTSTART:20240310T100000
END:DAYLIGHT
BEGIN:STANDARD
TZOFFSETFROM:-0700
TZOFFSETTO:-0800
TZNAME:PST
DTSTART:20241103T090000
END:STANDARD
BEGIN:DAYLIGHT
TZOFFSETFROM:-0800
TZOFFSETTO:-0700
TZNAME:PDT
DTSTART:20250309T100000
END:DAYLIGHT
BEGIN:STANDARD
TZOFFSETFROM:-0700
TZOFFSETTO:-0800
TZNAME:PST
DTSTART:20251102T090000
END:STANDARD
BEGIN:DAYLIGHT
TZOFFSETFROM:-0800
TZOFFSETTO:-0700
TZNAME:PDT
DTSTART:20260308T100000
END:DAYLIGHT
BEGIN:STANDARD
TZOFFSETFROM:-0700
TZOFFSETTO:-0800
TZNAME:PST
DTSTART:20261101T090000
END:STANDARD
END:VTIMEZONE
BEGIN:VEVENT
DTSTART;TZID=America/Los_Angeles:20251216T190000
DTEND;TZID=America/Los_Angeles:20251216T203000
DTSTAMP:20260419T061827
CREATED:20251211T184022Z
LAST-MODIFIED:20251211T184059Z
UID:17481-1765911600-1765917000@www.christcathedralcalifornia.org
SUMMARY:Advent Retreat
DESCRIPTION:English: 7:00 p.m. – Large Gallery with Fr. Ian Gaston \nSpanish: 7:00 p.m. – Cathedral with Fr. Juan Navarro \nVietnamese: 7:00 p.m. – Arboretum with Msgr. Cuong Pham
URL:https://www.christcathedralcalifornia.org/event/2025-advent-retreat/2025-12-16/
END:VEVENT
BEGIN:VEVENT
DTSTART;TZID=America/Los_Angeles:20251215T190000
DTEND;TZID=America/Los_Angeles:20251215T203000
DTSTAMP:20260419T061827
CREATED:20251211T184022Z
LAST-MODIFIED:20251211T184059Z
UID:17480-1765825200-1765830600@www.christcathedralcalifornia.org
SUMMARY:Advent Retreat
DESCRIPTION:English: 7:00 p.m. – Large Gallery with Fr. Ian Gaston \nSpanish: 7:00 p.m. – Cathedral with Fr. Juan Navarro \nVietnamese: 7:00 p.m. – Arboretum with Msgr. Cuong Pham
URL:https://www.christcathedralcalifornia.org/event/2025-advent-retreat/2025-12-15/
END:VEVENT
END:VCALENDAR