BEGIN:VCALENDAR
VERSION:2.0
PRODID:-//Christ Cathedral - ECPv6.15.20//NONSGML v1.0//EN
CALSCALE:GREGORIAN
METHOD:PUBLISH
X-ORIGINAL-URL:https://www.christcathedralcalifornia.org
X-WR-CALDESC:Events for Christ Cathedral
REFRESH-INTERVAL;VALUE=DURATION:PT1H
X-Robots-Tag:noindex
X-PUBLISHED-TTL:PT1H
BEGIN:VTIMEZONE
TZID:America/Los_Angeles
BEGIN:DAYLIGHT
TZOFFSETFROM:-0800
TZOFFSETTO:-0700
TZNAME:PDT
DTSTART:20230312T100000
END:DAYLIGHT
BEGIN:STANDARD
TZOFFSETFROM:-0700
TZOFFSETTO:-0800
TZNAME:PST
DTSTART:20231105T090000
END:STANDARD
BEGIN:DAYLIGHT
TZOFFSETFROM:-0800
TZOFFSETTO:-0700
TZNAME:PDT
DTSTART:20240310T100000
END:DAYLIGHT
BEGIN:STANDARD
TZOFFSETFROM:-0700
TZOFFSETTO:-0800
TZNAME:PST
DTSTART:20241103T090000
END:STANDARD
BEGIN:DAYLIGHT
TZOFFSETFROM:-0800
TZOFFSETTO:-0700
TZNAME:PDT
DTSTART:20250309T100000
END:DAYLIGHT
BEGIN:STANDARD
TZOFFSETFROM:-0700
TZOFFSETTO:-0800
TZNAME:PST
DTSTART:20251102T090000
END:STANDARD
END:VTIMEZONE
BEGIN:VEVENT
DTSTART;TZID=America/Los_Angeles:20240802T090000
DTEND;TZID=America/Los_Angeles:20240802T120000
DTSTAMP:20260422T215946
CREATED:20240420T234312Z
LAST-MODIFIED:20240626T203225Z
UID:14335-1722589200-1722600000@www.christcathedralcalifornia.org
SUMMARY:Diocesan Children's Choir Camp
DESCRIPTION:Website: Christ Cathedral Music \nPermission Form \nContact:\nLauren McCaul\, Christ Cathedral Music Administrator\nlmccaul@christcathedralparish.org\n(714) 620-7912 \n 
URL:https://www.christcathedralcalifornia.org/event/2024-choir-camp/2024-08-02/
LOCATION:Arboretum
END:VEVENT
BEGIN:VEVENT
DTSTART;TZID=America/Los_Angeles:20240801T090000
DTEND;TZID=America/Los_Angeles:20240801T120000
DTSTAMP:20260422T215946
CREATED:20240420T234312Z
LAST-MODIFIED:20240626T203224Z
UID:14334-1722502800-1722513600@www.christcathedralcalifornia.org
SUMMARY:Diocesan Children's Choir Camp
DESCRIPTION:Website: Christ Cathedral Music \nPermission Form \nContact:\nLauren McCaul\, Christ Cathedral Music Administrator\nlmccaul@christcathedralparish.org\n(714) 620-7912 \n 
URL:https://www.christcathedralcalifornia.org/event/2024-choir-camp/2024-08-01/
LOCATION:Arboretum
END:VEVENT
BEGIN:VEVENT
DTSTART;TZID=America/Los_Angeles:20240731T090000
DTEND;TZID=America/Los_Angeles:20240731T120000
DTSTAMP:20260422T215946
CREATED:20240420T234312Z
LAST-MODIFIED:20240626T203224Z
UID:14333-1722416400-1722427200@www.christcathedralcalifornia.org
SUMMARY:Diocesan Children's Choir Camp
DESCRIPTION:Website: Christ Cathedral Music \nPermission Form \nContact:\nLauren McCaul\, Christ Cathedral Music Administrator\nlmccaul@christcathedralparish.org\n(714) 620-7912 \n 
URL:https://www.christcathedralcalifornia.org/event/2024-choir-camp/2024-07-31/
LOCATION:Arboretum
END:VEVENT
BEGIN:VEVENT
DTSTART;TZID=America/Los_Angeles:20240730T090000
DTEND;TZID=America/Los_Angeles:20240730T120000
DTSTAMP:20260422T215946
CREATED:20240420T234312Z
LAST-MODIFIED:20240626T203224Z
UID:14332-1722330000-1722340800@www.christcathedralcalifornia.org
SUMMARY:Diocesan Children's Choir Camp
DESCRIPTION:Website: Christ Cathedral Music \nPermission Form \nContact:\nLauren McCaul\, Christ Cathedral Music Administrator\nlmccaul@christcathedralparish.org\n(714) 620-7912 \n 
URL:https://www.christcathedralcalifornia.org/event/2024-choir-camp/2024-07-30/
LOCATION:Arboretum
END:VEVENT
BEGIN:VEVENT
DTSTART;TZID=America/Los_Angeles:20240729T090000
DTEND;TZID=America/Los_Angeles:20240729T120000
DTSTAMP:20260422T215946
CREATED:20240420T234312Z
LAST-MODIFIED:20240626T203224Z
UID:14328-1722243600-1722254400@www.christcathedralcalifornia.org
SUMMARY:Diocesan Children's Choir Camp
DESCRIPTION:Website: Christ Cathedral Music \nPermission Form \nContact:\nLauren McCaul\, Christ Cathedral Music Administrator\nlmccaul@christcathedralparish.org\n(714) 620-7912 \n 
URL:https://www.christcathedralcalifornia.org/event/2024-choir-camp/2024-07-29/
LOCATION:Arboretum
END:VEVENT
END:VCALENDAR