BEGIN:VCALENDAR
VERSION:2.0
PRODID:-//Christ Cathedral - ECPv6.15.20//NONSGML v1.0//EN
CALSCALE:GREGORIAN
METHOD:PUBLISH
X-ORIGINAL-URL:https://www.christcathedralcalifornia.org
X-WR-CALDESC:Events for Christ Cathedral
REFRESH-INTERVAL;VALUE=DURATION:PT1H
X-Robots-Tag:noindex
X-PUBLISHED-TTL:PT1H
BEGIN:VTIMEZONE
TZID:America/Los_Angeles
BEGIN:DAYLIGHT
TZOFFSETFROM:-0800
TZOFFSETTO:-0700
TZNAME:PDT
DTSTART:20230312T100000
END:DAYLIGHT
BEGIN:STANDARD
TZOFFSETFROM:-0700
TZOFFSETTO:-0800
TZNAME:PST
DTSTART:20231105T090000
END:STANDARD
BEGIN:DAYLIGHT
TZOFFSETFROM:-0800
TZOFFSETTO:-0700
TZNAME:PDT
DTSTART:20240310T100000
END:DAYLIGHT
BEGIN:STANDARD
TZOFFSETFROM:-0700
TZOFFSETTO:-0800
TZNAME:PST
DTSTART:20241103T090000
END:STANDARD
BEGIN:DAYLIGHT
TZOFFSETFROM:-0800
TZOFFSETTO:-0700
TZNAME:PDT
DTSTART:20250309T100000
END:DAYLIGHT
BEGIN:STANDARD
TZOFFSETFROM:-0700
TZOFFSETTO:-0800
TZNAME:PST
DTSTART:20251102T090000
END:STANDARD
END:VTIMEZONE
BEGIN:VEVENT
DTSTART;TZID=America/Los_Angeles:20241102T090000
DTEND;TZID=America/Los_Angeles:20241102T115000
DTSTAMP:20260421T021740
CREATED:20240816T171120Z
LAST-MODIFIED:20240816T171120Z
UID:15124-1730538000-1730548200@www.christcathedralcalifornia.org
SUMMARY:Catholic Bible Institute
DESCRIPTION:  \nRegistration: (Click here) \nMore information about Lumen Christi: (Click here) \nEmail: lcinfo@rcbo.org \nPhone: (714) 282-3078
URL:https://www.christcathedralcalifornia.org/event/2024-cbi/2024-11-02/
LOCATION:Pastoral Center
END:VEVENT
BEGIN:VEVENT
DTSTART;TZID=America/Los_Angeles:20241026T090000
DTEND;TZID=America/Los_Angeles:20241026T115000
DTSTAMP:20260421T021740
CREATED:20240816T171120Z
LAST-MODIFIED:20240816T171120Z
UID:15123-1729933200-1729943400@www.christcathedralcalifornia.org
SUMMARY:Catholic Bible Institute
DESCRIPTION:  \nRegistration: (Click here) \nMore information about Lumen Christi: (Click here) \nEmail: lcinfo@rcbo.org \nPhone: (714) 282-3078
URL:https://www.christcathedralcalifornia.org/event/2024-cbi/2024-10-26/
LOCATION:Pastoral Center
END:VEVENT
BEGIN:VEVENT
DTSTART;TZID=America/Los_Angeles:20241019T090000
DTEND;TZID=America/Los_Angeles:20241019T115000
DTSTAMP:20260421T021740
CREATED:20240816T171120Z
LAST-MODIFIED:20240816T171120Z
UID:15122-1729328400-1729338600@www.christcathedralcalifornia.org
SUMMARY:Catholic Bible Institute
DESCRIPTION:  \nRegistration: (Click here) \nMore information about Lumen Christi: (Click here) \nEmail: lcinfo@rcbo.org \nPhone: (714) 282-3078
URL:https://www.christcathedralcalifornia.org/event/2024-cbi/2024-10-19/
LOCATION:Pastoral Center
END:VEVENT
BEGIN:VEVENT
DTSTART;TZID=America/Los_Angeles:20241012T090000
DTEND;TZID=America/Los_Angeles:20241012T115000
DTSTAMP:20260421T021740
CREATED:20240816T171120Z
LAST-MODIFIED:20240816T171120Z
UID:15121-1728723600-1728733800@www.christcathedralcalifornia.org
SUMMARY:Catholic Bible Institute
DESCRIPTION:  \nRegistration: (Click here) \nMore information about Lumen Christi: (Click here) \nEmail: lcinfo@rcbo.org \nPhone: (714) 282-3078
URL:https://www.christcathedralcalifornia.org/event/2024-cbi/2024-10-12/
LOCATION:Pastoral Center
END:VEVENT
BEGIN:VEVENT
DTSTART;TZID=America/Los_Angeles:20241005T090000
DTEND;TZID=America/Los_Angeles:20241005T115000
DTSTAMP:20260421T021740
CREATED:20240816T171120Z
LAST-MODIFIED:20240816T171120Z
UID:15120-1728118800-1728129000@www.christcathedralcalifornia.org
SUMMARY:Catholic Bible Institute
DESCRIPTION:  \nRegistration: (Click here) \nMore information about Lumen Christi: (Click here) \nEmail: lcinfo@rcbo.org \nPhone: (714) 282-3078
URL:https://www.christcathedralcalifornia.org/event/2024-cbi/2024-10-05/
LOCATION:Pastoral Center
END:VEVENT
BEGIN:VEVENT
DTSTART;TZID=America/Los_Angeles:20240928T090000
DTEND;TZID=America/Los_Angeles:20240928T115000
DTSTAMP:20260421T021740
CREATED:20240816T171120Z
LAST-MODIFIED:20240816T171120Z
UID:15119-1727514000-1727524200@www.christcathedralcalifornia.org
SUMMARY:Catholic Bible Institute
DESCRIPTION:  \nRegistration: (Click here) \nMore information about Lumen Christi: (Click here) \nEmail: lcinfo@rcbo.org \nPhone: (714) 282-3078
URL:https://www.christcathedralcalifornia.org/event/2024-cbi/2024-09-28/
LOCATION:Pastoral Center
END:VEVENT
BEGIN:VEVENT
DTSTART;TZID=America/Los_Angeles:20240921T090000
DTEND;TZID=America/Los_Angeles:20240921T115000
DTSTAMP:20260421T021740
CREATED:20240816T171120Z
LAST-MODIFIED:20240816T171120Z
UID:15118-1726909200-1726919400@www.christcathedralcalifornia.org
SUMMARY:Catholic Bible Institute
DESCRIPTION:  \nRegistration: (Click here) \nMore information about Lumen Christi: (Click here) \nEmail: lcinfo@rcbo.org \nPhone: (714) 282-3078
URL:https://www.christcathedralcalifornia.org/event/2024-cbi/2024-09-21/
LOCATION:Pastoral Center
END:VEVENT
BEGIN:VEVENT
DTSTART;TZID=America/Los_Angeles:20240914T090000
DTEND;TZID=America/Los_Angeles:20240914T115000
DTSTAMP:20260421T021740
CREATED:20240816T171120Z
LAST-MODIFIED:20240816T171120Z
UID:15117-1726304400-1726314600@www.christcathedralcalifornia.org
SUMMARY:Catholic Bible Institute
DESCRIPTION:  \nRegistration: (Click here) \nMore information about Lumen Christi: (Click here) \nEmail: lcinfo@rcbo.org \nPhone: (714) 282-3078
URL:https://www.christcathedralcalifornia.org/event/2024-cbi/2024-09-14/
LOCATION:Pastoral Center
END:VEVENT
BEGIN:VEVENT
DTSTART;TZID=America/Los_Angeles:20240907T090000
DTEND;TZID=America/Los_Angeles:20240907T115000
DTSTAMP:20260421T021740
CREATED:20240816T171120Z
LAST-MODIFIED:20240816T171120Z
UID:15113-1725699600-1725709800@www.christcathedralcalifornia.org
SUMMARY:Catholic Bible Institute
DESCRIPTION:  \nRegistration: (Click here) \nMore information about Lumen Christi: (Click here) \nEmail: lcinfo@rcbo.org \nPhone: (714) 282-3078
URL:https://www.christcathedralcalifornia.org/event/2024-cbi/2024-09-07/
LOCATION:Pastoral Center
END:VEVENT
END:VCALENDAR